BEGIN:VCALENDAR
VERSION:2.0
PRODID:-//Grand Café Zuidlaren - ECPv6.15.18//NONSGML v1.0//EN
CALSCALE:GREGORIAN
METHOD:PUBLISH
X-ORIGINAL-URL:https://grandcafezuidlaren.nl
X-WR-CALDESC:Evenementen voor Grand Café Zuidlaren
REFRESH-INTERVAL;VALUE=DURATION:PT1H
X-Robots-Tag:noindex
X-PUBLISHED-TTL:PT1H
BEGIN:VTIMEZONE
TZID:Europe/Amsterdam
BEGIN:DAYLIGHT
TZOFFSETFROM:+0100
TZOFFSETTO:+0200
TZNAME:CEST
DTSTART:20240331T010000
END:DAYLIGHT
BEGIN:STANDARD
TZOFFSETFROM:+0200
TZOFFSETTO:+0100
TZNAME:CET
DTSTART:20241027T010000
END:STANDARD
BEGIN:DAYLIGHT
TZOFFSETFROM:+0100
TZOFFSETTO:+0200
TZNAME:CEST
DTSTART:20250330T010000
END:DAYLIGHT
BEGIN:STANDARD
TZOFFSETFROM:+0200
TZOFFSETTO:+0100
TZNAME:CET
DTSTART:20251026T010000
END:STANDARD
BEGIN:DAYLIGHT
TZOFFSETFROM:+0100
TZOFFSETTO:+0200
TZNAME:CEST
DTSTART:20260329T010000
END:DAYLIGHT
BEGIN:STANDARD
TZOFFSETFROM:+0200
TZOFFSETTO:+0100
TZNAME:CET
DTSTART:20261025T010000
END:STANDARD
END:VTIMEZONE
BEGIN:VEVENT
DTSTART;TZID=Europe/Amsterdam:20250601T160000
DTEND;TZID=Europe/Amsterdam:20250601T193000
DTSTAMP:20260422T225808
CREATED:20250422T071506Z
LAST-MODIFIED:20250429T073702Z
UID:10000174-1748793600-1748806200@grandcafezuidlaren.nl
SUMMARY:Zondag 1 juni: Hot Me!
DESCRIPTION:Hot Me! speelt vooral covers uit de jaren 60/70/80\, soms zoals het origineel en voorzien van een eigen sausje. Nummers van ABBA tot ZZ TOP en van The Beatles tot Rolling Stones!\nEen succesformule: het publiek gaat tijdens optredens gegarandeerd uit zijn dak! \nEen bezoeker omschreef de stijl van Hot Me! ooit als Strokarton-rock… Hij doelt op de invloed die (Oost)-Groninger rockers als New Adventures\, Herman Brood en AA & the Doctors op de bandleden heeft.\nBezetting: – Everhard Sprik – Zang – Tom Feiken – Gitaar/zang – Albert Boddema – Gitaar – Koos Feiken – Basgitaar/zang – – Coos Grevelink – Drums Marianne Pruissen- Van der Velde – Zang – Rita Bakker – Zang. \nAanvang: 16.00 uur.\nEntree: €6\, –
URL:https://grandcafezuidlaren.nl/agenda/zondag-1-juni-hot-me/
LOCATION:Grand Café Zuidlaren\, De Millystraat 8\, Zuidlaren\, Drenthe\, 9471 AH\, Nederland
CATEGORIES:Agenda
ATTACH;FMTTYPE=image/jpeg:https://grandcafezuidlaren.nl/wp-content/uploads/Hot-Me.jpg
ORGANIZER;CN="Grand Caf%C3%A9 Zuidlaren":MAILTO:info@grandcafezuidlaren.nl
END:VEVENT
BEGIN:VEVENT
DTSTART;TZID=Europe/Amsterdam:20250604T193000
DTEND;TZID=Europe/Amsterdam:20250604T233000
DTSTAMP:20260422T225808
CREATED:20250526T074212Z
LAST-MODIFIED:20250526T074212Z
UID:10000184-1749065400-1749079800@grandcafezuidlaren.nl
SUMMARY:Woensdag 4 juni: Women Only
DESCRIPTION:Vive La France!\nWe gaan in Franse sfeer lekker naar buiten om het traditionele “Jeu de Boules” te spelen. We beginnen met koffie/drankje in het Grand Café Zuidlaren om 19.30 uur. Dan gaan we op loopafstand naar een plek om het spel te spelen. \nUiteraard is er de mogelijkheid een wijntje (of meer) te nuttigen ter plaatse en worden er wat franse hapjes geserveerd. We hopen op een mooie zomerse avond. \nOpgeven kan via: reserveren@grandcafezuidlaren.nl\nAu revoir et a bientôt.
URL:https://grandcafezuidlaren.nl/agenda/woensdag-4-juni-women-only/
LOCATION:Grand Café Zuidlaren\, De Millystraat 8\, Zuidlaren\, Drenthe\, 9471 AH\, Nederland
CATEGORIES:Agenda
ATTACH;FMTTYPE=image/jpeg:https://grandcafezuidlaren.nl/wp-content/uploads/jeudeboules.jpg
ORGANIZER;CN="Grand Caf%C3%A9 Zuidlaren":MAILTO:info@grandcafezuidlaren.nl
END:VEVENT
BEGIN:VEVENT
DTSTART;TZID=Europe/Amsterdam:20250608T113000
DTEND;TZID=Europe/Amsterdam:20250608T220000
DTSTAMP:20260422T225808
CREATED:20250505T073545Z
LAST-MODIFIED:20250505T073545Z
UID:10000178-1749382200-1749420000@grandcafezuidlaren.nl
SUMMARY:Zondag 8 juni: Pinksterrally!
DESCRIPTION:Zondag 8 juni is de Pinksterrally\, een Autorally Puzzelrit! Samen met uw partner\, familie of vrienden èn eigen auto bent u van harte welkom om deel te nemen aan de route door de omgeving van Drenthe en Groningen. De rit gaat niet op snelheid maar op nauwkeurigheid\, waardoor er genoeg tijd is om van de omgeving te genieten en de opdrachten en puzzels op te lossen. De rally is uitgeschreven door Nol & Jannet de Grooth waarvoor alvast weer onze hartelijke dank! Na afloop van de rally (rond een uur of 15 ) is het tijd voor een borreltje en live muziek! \nVanaf 11.30 uur is de inschrijving en om 12 uur is de start. De inschrijving kost 10 euro en daarvoor ontvangt u een rallyschildje voor op uw auto. \nU kunt zich aanmelden via de email: reserveren@grandcafezuidlaren.nl\, telefonisch 050 4096460 of aan de bar.
URL:https://grandcafezuidlaren.nl/agenda/zondag-8-juni-pinksterrally/
LOCATION:Grand Café Zuidlaren\, De Millystraat 8\, Zuidlaren\, Drenthe\, 9471 AH\, Nederland
CATEGORIES:Agenda
ATTACH;FMTTYPE=image/png:https://grandcafezuidlaren.nl/wp-content/uploads/Pinksterrally.png
ORGANIZER;CN="Grand Caf%C3%A9 Zuidlaren":MAILTO:info@grandcafezuidlaren.nl
END:VEVENT
BEGIN:VEVENT
DTSTART;TZID=Europe/Amsterdam:20250608T160000
DTEND;TZID=Europe/Amsterdam:20250608T193000
DTSTAMP:20260422T225808
CREATED:20250520T074650Z
LAST-MODIFIED:20250520T074650Z
UID:10000181-1749398400-1749411000@grandcafezuidlaren.nl
SUMMARY:Zondag 8 juni: Spill the Beans!
DESCRIPTION:Spill the Beans is ontstaan uit een toevallige ontmoeting voor een gig.\nWe zagen elkaar toen voor het eerst\, we schudden elkaar de hand\, klommen het podium op en gingen muziek maken. And sometimes it’s like Magic…….ongelooflijk\, niet te beschrijven wat we die avond lieten horen. Michael Jackson\, Sting\, Chic\, Sister Sledge\, Stevie Wonder kwamen voorbij. \nHoe het klonk?……It was magic!!!\nDus kom langs en we laten jullie de magic zien en horen.\nRianne en Rita (zang)\, Jendrik (bass)\, Klaas (drums)\, Eddy (keys) en Saly (Guitar). \nAanvang: 16.00 uur\nEntree €6\,-
URL:https://grandcafezuidlaren.nl/agenda/zondag-8-juni-spill-the-beans/
LOCATION:Grand Café Zuidlaren\, De Millystraat 8\, Zuidlaren\, Drenthe\, 9471 AH\, Nederland
CATEGORIES:Agenda
ATTACH;FMTTYPE=image/jpeg:https://grandcafezuidlaren.nl/wp-content/uploads/spill-the-beans.jpg
ORGANIZER;CN="Grand Caf%C3%A9 Zuidlaren":MAILTO:info@grandcafezuidlaren.nl
END:VEVENT
BEGIN:VEVENT
DTSTART;TZID=Europe/Amsterdam:20250615T160000
DTEND;TZID=Europe/Amsterdam:20250615T193000
DTSTAMP:20260422T225808
CREATED:20250512T075626Z
LAST-MODIFIED:20250512T075626Z
UID:10000180-1750003200-1750015800@grandcafezuidlaren.nl
SUMMARY:Zondag 15 juni: The Blues Cowboys
DESCRIPTION:The Blues Cowboys bestaat uit Lourens Leeuw (zang en bas)\, Harry Groenewold (zang en drums) en Lex Koopman (zang en gitaar). Dit ervaren Rocktrio speelde al samen in de band The Rockaways waar ze\, met verschillende andere muzikanten in een steeds wisselende bezetting\, herkenbare sixties afgewisseld met swingende bluesnummers ten gehore brachten. \nDoor de unieke bijdrage van Lex\, Harry en Lourens heeft The Bluescowboys een andere en unieke sound ontwikkeld. Met veel plezier in het spelen brengen ze nu op een geheel eigen manier Rock & Roll\, Blues\, en Pop met een vleugje Country. Dat wordt zondag weer muzikaal genieten in Grand Café Zuidlaren. \nAanvang: 16.00 uur\nEntree: € 6\,-
URL:https://grandcafezuidlaren.nl/agenda/zondag-15-juni-the-blues-cowboys/
LOCATION:Drenthe
CATEGORIES:Agenda
ATTACH;FMTTYPE=image/jpeg:https://grandcafezuidlaren.nl/wp-content/uploads/The-Blues-Cowboys-1.jpg
END:VEVENT
BEGIN:VEVENT
DTSTART;TZID=Europe/Amsterdam:20250620T200000
DTEND;TZID=Europe/Amsterdam:20250620T233000
DTSTAMP:20260422T225808
CREATED:20250520T074749Z
LAST-MODIFIED:20250520T074749Z
UID:10000182-1750449600-1750462200@grandcafezuidlaren.nl
SUMMARY:Vrijdag 20 juni: Pub Quiz!!
DESCRIPTION:Trek je beste denkpet op\, want Grand Café Zuidlaren heeft de leukste PubQuiz van Zuidlaren! Of je nu een filmfanaat bent die elk detail van je favoriete blockbusters kent\, of een muziekkenner die elke noot herkent\, wij hebben de vragen die jouw kennis testen en je laten glimlachen. Terwijl je je hersenen laat kraken\, houden we bij wie er aan de leiding staat\, wat de strijd alleen maar intenser maakt. Gezelligheid ontmoet competitie in deze strijd. Aan het einde van de rit wacht een beloning voor het winnende team. En ook de verliezers wacht een verrassing. \nVorm een team van max. 6 personen\, verzin een leuke teamnaam en geef je op via reserveren@grandcafezuidlaren.nl. \nInloop: 20.00 uur\nAanvang: 20.30 uur\nEntree € 5\,-
URL:https://grandcafezuidlaren.nl/agenda/vrijdag-20-juni-pub-quiz/
LOCATION:Grand Café Zuidlaren\, De Millystraat 8\, Zuidlaren\, Drenthe\, 9471 AH\, Nederland
CATEGORIES:Agenda
ATTACH;FMTTYPE=image/png:https://grandcafezuidlaren.nl/wp-content/uploads/pubquiz-GC.png
ORGANIZER;CN="Grand Caf%C3%A9 Zuidlaren":MAILTO:info@grandcafezuidlaren.nl
END:VEVENT
BEGIN:VEVENT
DTSTART;TZID=Europe/Amsterdam:20250625T160000
DTEND;TZID=Europe/Amsterdam:20250625T180000
DTSTAMP:20260422T225808
CREATED:20250617T092722Z
LAST-MODIFIED:20250623T063224Z
UID:10000187-1750867200-1750874400@grandcafezuidlaren.nl
SUMMARY:Woensdag 25 juni: Haring Party!
DESCRIPTION:18 juni begint officieel het haringseizoen 2025!\nWoensdag 25 juni organiseren we van 16.00 tot 18.00 uur weer een gezellige Haring party! Wij nodigen u hierbij van harte uit om de Hollandse Nieuwe te komen proeven. En te genieten van deze haring tezamen met een korenwijn! \nSpeciaal voor deze feestelijke gelegenheid vragen we u om met een mooie\, leuke\, gekke\, originele hoed te verschijnen (dit is geen verplichting). Voor de dame en de heer met de mooiste hoed zal een leuke attentie worden uitgereikt. \nEigen bijdrage €5\,- p.p.
URL:https://grandcafezuidlaren.nl/agenda/woensdag-25-juni-haring-party/
LOCATION:Grand Café Zuidlaren\, De Millystraat 8\, Zuidlaren\, Drenthe\, 9471 AH\, Nederland
CATEGORIES:Agenda
ATTACH;FMTTYPE=image/jpeg:https://grandcafezuidlaren.nl/wp-content/uploads/zuidlarenharingparty.jpg
ORGANIZER;CN="Grand Caf%C3%A9 Zuidlaren":MAILTO:info@grandcafezuidlaren.nl
END:VEVENT
BEGIN:VEVENT
DTSTART;TZID=Europe/Amsterdam:20250629T160000
DTEND;TZID=Europe/Amsterdam:20250629T193000
DTSTAMP:20260422T225808
CREATED:20250526T074539Z
LAST-MODIFIED:20250526T074539Z
UID:10000185-1751212800-1751225400@grandcafezuidlaren.nl
SUMMARY:Zondag 29 juni: ADMZ Band
DESCRIPTION:AllesdutmiezeerBand! \nIn 1985 wordt de band opgericht door Tonny Weening\, uitbater van Café de Groene Weide met Marcel van der Tuin\, barkeeper daar en enkele gasten en bekenden van het café. Een stamgast\, die elke keer als hij binnenkomt moppert: ”allesdutmiezeer”\, levert zo indirect de naam! \nNa diverse ledenwisselingen zijn van de oorspronkelijke bezetting Tonny (basgitaar) en Marcel (gitaar en zang) nog over en de volgende bandleden zijn op dit moment actief:\nHannes Langkamp (Drums) – ook een oorspronkelijke stamgast en toentertijd drummer\nbij Harry Muskee. Heeft bij diverse bands zijn drumstokken laten knallen en speelt sinds\nde jaren 90 mee.\nPeter van Rees (Toetsen) – Bandlid uit de jaren 90\, is een poosje weggeweest\, kreeg\nheimwee en is sinds enkele jaren weer terug.\nRoel Schiethart (Zang) – internationaal gelouterde zanger die een paar\nkeer spontaan meezong en nu al weer jaren een vaste waarde is\, bekend om zijn\nprachtige vertolkingen van David Bowie nummers.\nJudith Bakker (zang) – Omstreeks 2010 bij de band gekomen\, de laatste jaren meer als bonuszangeres erbij voor speciale aangelegenheden. Draagt Zuidlaren een warm hart toe! \nDe band speelt vooral Pop\, Rock-’n-roll\, Soul & Blues Covers en Dansbare muziek uit de\nvorige eeuw. Dit wil je zeker niet missen! \nAanvang: 16.00 uur.\nEntree €6\,-
URL:https://grandcafezuidlaren.nl/agenda/zondag-29-juni-admz-band/
LOCATION:Grand Café Zuidlaren\, De Millystraat 8\, Zuidlaren\, Drenthe\, 9471 AH\, Nederland
CATEGORIES:Agenda
ATTACH;FMTTYPE=image/jpeg:https://grandcafezuidlaren.nl/wp-content/uploads/AllesdutmiezeerBand.jpg
ORGANIZER;CN="Grand Caf%C3%A9 Zuidlaren":MAILTO:info@grandcafezuidlaren.nl
END:VEVENT
END:VCALENDAR