BEGIN:VCALENDAR
VERSION:2.0
PRODID:-//Grand Café Zuidlaren - ECPv6.15.18//NONSGML v1.0//EN
CALSCALE:GREGORIAN
METHOD:PUBLISH
X-WR-CALNAME:Grand Café Zuidlaren
X-ORIGINAL-URL:https://grandcafezuidlaren.nl
X-WR-CALDESC:Evenementen voor Grand Café Zuidlaren
REFRESH-INTERVAL;VALUE=DURATION:PT1H
X-Robots-Tag:noindex
X-PUBLISHED-TTL:PT1H
BEGIN:VTIMEZONE
TZID:Europe/Amsterdam
BEGIN:DAYLIGHT
TZOFFSETFROM:+0100
TZOFFSETTO:+0200
TZNAME:CEST
DTSTART:20240331T010000
END:DAYLIGHT
BEGIN:STANDARD
TZOFFSETFROM:+0200
TZOFFSETTO:+0100
TZNAME:CET
DTSTART:20241027T010000
END:STANDARD
BEGIN:DAYLIGHT
TZOFFSETFROM:+0100
TZOFFSETTO:+0200
TZNAME:CEST
DTSTART:20250330T010000
END:DAYLIGHT
BEGIN:STANDARD
TZOFFSETFROM:+0200
TZOFFSETTO:+0100
TZNAME:CET
DTSTART:20251026T010000
END:STANDARD
BEGIN:DAYLIGHT
TZOFFSETFROM:+0100
TZOFFSETTO:+0200
TZNAME:CEST
DTSTART:20260329T010000
END:DAYLIGHT
BEGIN:STANDARD
TZOFFSETFROM:+0200
TZOFFSETTO:+0100
TZNAME:CET
DTSTART:20261025T010000
END:STANDARD
END:VTIMEZONE
BEGIN:VEVENT
DTSTART;TZID=Europe/Amsterdam:20250402T200000
DTEND;TZID=Europe/Amsterdam:20250402T230000
DTSTAMP:20260421T200112
CREATED:20250402T072416Z
LAST-MODIFIED:20250402T072416Z
UID:10000164-1743624000-1743634800@grandcafezuidlaren.nl
SUMMARY:Woensdag 2 april: Women Only Bloemschikken
DESCRIPTION:Thema: Bloemschikken Pasen! \nWegens groot succes wordt dit thema jaarlijks herhaald.\nWe vragen of ieder een schaal\, bord of vaas mee wil nemen. Wij zorgen voor decoratiemateriaal\, takken\, voorjaarsbloemen en oase. Hiervoor vragen we een bijdrage van €10\,-\nTakken uit eigen tuin zijn natuurlijk ook welkom.\nAanvang 20.00 uur\nAlle vrouwen zijn welkom! We maken er een gezellige\, creatieve avond van! \nGraag aanmelden voor 28 maart i.v.m het aanschaffen van materialen.
URL:https://grandcafezuidlaren.nl/agenda/woensdag-2-april-women-only-bloemschikken/
LOCATION:Grand Café Zuidlaren\, De Millystraat 8\, Zuidlaren\, Drenthe\, 9471 AH\, Nederland
CATEGORIES:Agenda
ATTACH;FMTTYPE=image/jpeg:https://grandcafezuidlaren.nl/wp-content/uploads/bloemschikken.jpg
ORGANIZER;CN="Grand Caf%C3%A9 Zuidlaren":MAILTO:info@grandcafezuidlaren.nl
END:VEVENT
BEGIN:VEVENT
DTSTART;TZID=Europe/Amsterdam:20250403T200000
DTEND;TZID=Europe/Amsterdam:20250403T233000
DTSTAMP:20260421T200112
CREATED:20250303T081333Z
LAST-MODIFIED:20250303T081333Z
UID:10000159-1743710400-1743723000@grandcafezuidlaren.nl
SUMMARY:Donderdag 3 april: Eemsmond Big Band
DESCRIPTION:Op donderdagavond 3 april a.s. treedt de Eemsmond Big Band op in het Grand Café Zuidlaren. Dit orkest onder leiding van Hennie Maring heeft in de afgelopen jaren naast eigen optredens veel bekende artiesten mogen begeleiden\, waaronder Lee Towers\, Anita Meyer en Shirma Rouse. \nHet publiek kan deze avond een gevarieerd repertoire verwachten: van jazz tot pop\, van latin tot swing. Tijdens het optreden begeleidt de Eemsmond Big Band twee speciale gasten\, namelijk de vocalisten\, André Kuik en Suzan Renkema.\nIedereen is welkom! \nAanvang: 20.00 uur.\nEntree € 6\,-
URL:https://grandcafezuidlaren.nl/agenda/donderdag-3-april-eemsmond-big-band/
LOCATION:Grand Café Zuidlaren\, De Millystraat 8\, Zuidlaren\, Drenthe\, 9471 AH\, Nederland
CATEGORIES:Agenda
ATTACH;FMTTYPE=image/jpeg:https://grandcafezuidlaren.nl/wp-content/uploads/Eemsmond-Big-Band.jpg
ORGANIZER;CN="Grand Caf%C3%A9 Zuidlaren":MAILTO:info@grandcafezuidlaren.nl
END:VEVENT
BEGIN:VEVENT
DTSTART;TZID=Europe/Amsterdam:20250406T160000
DTEND;TZID=Europe/Amsterdam:20250406T190000
DTSTAMP:20260421T200112
CREATED:20250303T081548Z
LAST-MODIFIED:20250303T081548Z
UID:10000160-1743955200-1743966000@grandcafezuidlaren.nl
SUMMARY:Zondag 6 april: Sugar Mama
DESCRIPTION:Sugar Mama spelen sinds ’86 hun eigen soort blues\, boogie\, rock’n roll en aanverwante roots muziek. Op festivals (Oerol\, Giethoorn en vele andere) en in talloze kroegen in binnen als buitenland\, op radio en TV. Als een echte liveband gewend aan lange nachten hebben zij voldoende covers achter de hand. Hun ware passie ligt echter bij het bewerken van oude\, vaak akoestische blues en eigen werk. \nDe band bestaat uit: Bas de Jong\, Kris Hartman en Ton Tacke. Muziekkrant Oor schreef; een echte live band die kans ziet de meest kale gymzaal in een gezellig zweethol om te toveren. En Donegal live (Ierland) This band proved that the blues\, at least in Holland\, is alive and kickin! If you want to boogie\, check out Sugar Mama! \nAanvang: 16.00 uur.\nEntree € 6\,-
URL:https://grandcafezuidlaren.nl/agenda/zondag-6-april-sugar-mama/
LOCATION:Grand Café Zuidlaren\, De Millystraat 8\, Zuidlaren\, Drenthe\, 9471 AH\, Nederland
CATEGORIES:Agenda
ATTACH;FMTTYPE=image/jpeg:https://grandcafezuidlaren.nl/wp-content/uploads/Sugar-Mama.jpg
ORGANIZER;CN="Grand Caf%C3%A9 Zuidlaren":MAILTO:info@grandcafezuidlaren.nl
END:VEVENT
BEGIN:VEVENT
DTSTART;TZID=Europe/Amsterdam:20250411T200000
DTEND;TZID=Europe/Amsterdam:20250411T233000
DTSTAMP:20260421T200112
CREATED:20250402T072605Z
LAST-MODIFIED:20250402T072605Z
UID:10000165-1744401600-1744414200@grandcafezuidlaren.nl
SUMMARY:Vrijdag 11 april: Pub Quiz!!
DESCRIPTION:Trek je beste denkpet op\, want Grand Café Zuidlaren heeft de leukste PubQuiz van Zuidlaren! Of je nu een filmfanaat bent die elk detail van je favoriete blockbusters kent\, of een muziekkenner die elke noot herkent\, wij hebben de vragen die jouw kennis testen en je laten glimlachen. Terwijl je je hersenen laat kraken\, houden we bij wie er aan de leiding staat\, wat de strijd alleen maar intenser maakt. Gezelligheid ontmoet competitie in deze strijd. Aan het einde van de rit wacht een beloning voor het winnende team. En ook de verliezers wacht een verrassing. \nVorm een team van max. 6 personen\, verzin een leuke teamnaam en geef je op via reserveren@grandcafezuidlaren.nl. \nInloop: 20.00 uur\nAanvang: 20.30 uur\nEntree € 5\,-
URL:https://grandcafezuidlaren.nl/agenda/vrijdag-11-april-pub-quiz/
LOCATION:Grand Café Zuidlaren\, De Millystraat 8\, Zuidlaren\, Drenthe\, 9471 AH\, Nederland
CATEGORIES:Agenda
ATTACH;FMTTYPE=image/png:https://grandcafezuidlaren.nl/wp-content/uploads/pubquiz-GC.png
ORGANIZER;CN="Grand Caf%C3%A9 Zuidlaren":MAILTO:info@grandcafezuidlaren.nl
END:VEVENT
BEGIN:VEVENT
DTSTART;TZID=Europe/Amsterdam:20250413T160000
DTEND;TZID=Europe/Amsterdam:20250413T190000
DTSTAMP:20260421T200112
CREATED:20250311T075932Z
LAST-MODIFIED:20250414T050223Z
UID:10000162-1744560000-1744570800@grandcafezuidlaren.nl
SUMMARY:Zondag 13 april: D-Wire
DESCRIPTION:D-Wire is een band die zijn oorsprong/ roots heeft in Zuidlaren en inmiddels al meer dan 40 jaar bestaat. De band bestaat uit Harry Jelijs (leadzanger/ gitaar)\, Jakob Moorlag (drum/ zang)\, Roel Weitering (basgitaar)\, Wietse De Jong (sologitaar) en Thijs Augusteijn (gitaar/zang). D- Wire speelt o.a. stevige rock\, (pittige) country maar ook ballads. Het repertoire van de band bestaat uit eigen nummers en de leden van de band spelen op geheel eigen wijze covers van enkele van hun muzikale helden zoals bijvoorbeeld Paul McCartney en The Beatles\, Eric Clapton\, Bruce Springsteen\, etc. Dat wordt weer genieten. Aanvang: 16.00 uur. Entree: € 6\,-
URL:https://grandcafezuidlaren.nl/agenda/zondag-13-april-d-wire/
LOCATION:Grand Café Zuidlaren\, De Millystraat 8\, Zuidlaren\, Drenthe\, 9471 AH\, Nederland
CATEGORIES:Agenda
ATTACH;FMTTYPE=image/jpeg:https://grandcafezuidlaren.nl/wp-content/uploads/D-Wire-Zuidlaren.jpg
ORGANIZER;CN="Grand Caf%C3%A9 Zuidlaren":MAILTO:info@grandcafezuidlaren.nl
END:VEVENT
BEGIN:VEVENT
DTSTART;TZID=Europe/Amsterdam:20250417T203000
DTEND;TZID=Europe/Amsterdam:20250417T233000
DTSTAMP:20260421T200112
CREATED:20250303T081925Z
LAST-MODIFIED:20250303T081925Z
UID:10000161-1744921800-1744932600@grandcafezuidlaren.nl
SUMMARY:Donderdag 17 april: C'est La Vie
DESCRIPTION:Emmylou Harris is een van de meest iconische Amerikaanse countryzangeressen en zij is lid van de ‘Country Music Hall Of Fame’.\nSongs waarin ze samenwerkt met Bob Dylan\, Gram Parsons\, Dolly Parton\, Linda Ronstadt en ‘The Hot Band’ passeren de revue in deze show\, en zullen niet alleen bij fans van Emmylou veel herkenning en sentiment oproepen. Laat je meevoeren naar met name de jaren ‘70\, tijdens een show waarbij je nauwelijks stil kan zitten! \nZangeres Hilde Vos stapt in het personage van Emmylou Harris\, een rol die deze ervaren countryzangeres op het lijf geschreven is.\nHilde is onder meer bekend van het duo met Major Dundee-zanger Dick van Altena\, de Johan Derksen tour ‘The Sound of the Blues and Americana’\, de tour ‘The History of Country Duets’ en als ‘June Carter’ bij Def Americans (Johny Cash tribute). Ze won eerder de Atlanta ISSA Award en 2 DCMA Awards.\nEind 2024 nam Hilde met haar band de prijs ‘Best International Country Band’ mee naar huis van het ‘Texas Sounds Festival’ in Texas en was onder andere te zien op NPO1 in het programma ‘Bij Carrie’ (Omroep Max). \nBand:\nEmmylou Harris (Vocals and acoustic guitar): Hilde Vos\nDrums: Fokke De Jong. De Kast\, King of the world\, Normaal\, The southern aces (met onder andere Roel Spanjers).\nBass: Paul Verberne\, Tineke Schouten\, The History of Country Duets (met o.a Edwin Jongedijk.)\nPedal steel: Keenan Schuck (USA)\nElectric guitar: Marco de Vries\nAcoustic guitar and backings: Antoinette Hommerson(Texas sounds award winner\n2023)\, Antoinette&The Blue Bonnets\, The orange blossoms. \nEntree: €17\,50\nReserveren: info@hildevos.com\nBetaling:aan de deur\nDeur open: 20:00 uur\nShow time: 20:30 uur
URL:https://grandcafezuidlaren.nl/agenda/donderdag-17-april-cest-la-vie/
LOCATION:Grand Café Zuidlaren\, De Millystraat 8\, Zuidlaren\, Drenthe\, 9471 AH\, Nederland
CATEGORIES:Agenda
ATTACH;FMTTYPE=image/jpeg:https://grandcafezuidlaren.nl/wp-content/uploads/Cest-La-Vie.jpg
ORGANIZER;CN="Grand Caf%C3%A9 Zuidlaren":MAILTO:info@grandcafezuidlaren.nl
END:VEVENT
BEGIN:VEVENT
DTSTART;TZID=Europe/Amsterdam:20250420T160000
DTEND;TZID=Europe/Amsterdam:20250420T190000
DTSTAMP:20260421T200113
CREATED:20250311T080458Z
LAST-MODIFIED:20250311T080831Z
UID:10000163-1745164800-1745175600@grandcafezuidlaren.nl
SUMMARY:Zondag 20 april: Blueslines
DESCRIPTION:Blueslines\, een zeven-koppige formatie met twee zangeressen uit het Noorden. Groningen\, Drenthe en de blues zijn al vele jaren onlosmakelijk met elkaar verbonden. Blueslines zet deze traditie voort en speelt vele aansprekende covers van blues en bluesrock uit binnen- en buitenland zoals nummers van BB King\, Bernard Allison\, Beth Hart en Eric Clapton. Ook zullen er in een afwisselend programma uitstapjes gemaakt naar de hedendaagse bluesrock. \nIedereeen is welkom!\nAanvang: 16.00 uur.\nEntree € 6\,-
URL:https://grandcafezuidlaren.nl/agenda/zondag-20-april-blueslines/
LOCATION:Grand Café Zuidlaren\, De Millystraat 8\, Zuidlaren\, Drenthe\, 9471 AH\, Nederland
CATEGORIES:Agenda
ATTACH;FMTTYPE=image/jpeg:https://grandcafezuidlaren.nl/wp-content/uploads/Blueslines-1.jpg
ORGANIZER;CN="Grand Caf%C3%A9 Zuidlaren":MAILTO:info@grandcafezuidlaren.nl
END:VEVENT
BEGIN:VEVENT
DTSTART;TZID=Europe/Amsterdam:20250420T190000
DTEND;TZID=Europe/Amsterdam:20250420T210000
DTSTAMP:20260421T200113
CREATED:20250414T051104Z
LAST-MODIFIED:20250414T051104Z
UID:10000172-1745175600-1745182800@grandcafezuidlaren.nl
SUMMARY:Zondag 20 april: Live Sport GP Saoedi-Arabië
DESCRIPTION:GP Saoedi-Arabi \nAanvang: 19.00 uur
URL:https://grandcafezuidlaren.nl/agenda/zondag-20-april-live-sport-gp-saoedi-arabie/
LOCATION:Grand Café Zuidlaren\, De Millystraat 8\, Zuidlaren\, Drenthe\, 9471 AH\, Nederland
CATEGORIES:Agenda
ATTACH;FMTTYPE=image/jpeg:https://grandcafezuidlaren.nl/wp-content/uploads/tv-sport-live.jpg
ORGANIZER;CN="Grand Caf%C3%A9 Zuidlaren":MAILTO:info@grandcafezuidlaren.nl
END:VEVENT
BEGIN:VEVENT
DTSTART;TZID=Europe/Amsterdam:20250426T210000
DTEND;TZID=Europe/Amsterdam:20250426T233000
DTSTAMP:20260421T200113
CREATED:20250407T062800Z
LAST-MODIFIED:20250407T062800Z
UID:10000169-1745701200-1745710200@grandcafezuidlaren.nl
SUMMARY:Zaterdag 26 april: Koningsdag 30+ Dance Party!!
DESCRIPTION: “Koningsdag 30+ Dance Party!”      \nNet als vroeger Koningsdag vieren!\nNiet naar de stad\, maar lekker in de buurt! Gewoon op tijd beginnen met Dansen en Swingen op alle Grote HITS uit de Eighties\, Nineties en Meer!! Met mooie Disco-Verlichting op de dansvloer en DJ- Arend aan de knoppen wordt dit een Feest der herkenning en kunnen we los met die voetjes van de vloer! Of met een drankje in de hand samen met je vrienden meezingen met hits waarvan je niet eens meer wist dat je ze nog mee kon zingen (Of Blèren…!?) \nEn wat nou zo leuk is\, daarna gewoon weer lekker op de fiets naar huis! Dit wordt een Fantastisch Swingend Feestje\, wat je zeker niet wilt missen! Dus neem je vrienden/vriendinnen en/of collegae mee en Dance!..Dance!..Dance!!.. \nAanvang: 21.00 uur.\nEntree: gratis
URL:https://grandcafezuidlaren.nl/agenda/zaterdag-26-april-koningsdag-30-dance-party/
LOCATION:Grand Café Zuidlaren\, De Millystraat 8\, Zuidlaren\, Drenthe\, 9471 AH\, Nederland
CATEGORIES:Agenda
ATTACH;FMTTYPE=image/jpeg:https://grandcafezuidlaren.nl/wp-content/uploads/koningsdag30danceparty26april25.jpg
ORGANIZER;CN="Grand Caf%C3%A9 Zuidlaren":MAILTO:info@grandcafezuidlaren.nl
END:VEVENT
BEGIN:VEVENT
DTSTART;TZID=Europe/Amsterdam:20250427T160000
DTEND;TZID=Europe/Amsterdam:20250427T190000
DTSTAMP:20260421T200113
CREATED:20250402T072827Z
LAST-MODIFIED:20250402T073227Z
UID:10000166-1745769600-1745780400@grandcafezuidlaren.nl
SUMMARY:Zondag 27 april: Greymen
DESCRIPTION:‘Het is nooit te laat om te schitteren in een popband!’ \nDit dachten 5 mannen uit Groningen een aantal jaren geleden. En zo vormden deze 5 “grijze”\, maar uiterst jeugdige\, mannen de band Greymen. Inmiddels speelt Greymen o.a. nummers van U2\, Golden Earring\, De Dijk\, Red Hot Chilli Peppers en Kool And The Gang in kleine kroegen\, gezellige feesten en op grote festivals! Zin om te dansen\, zingen en om mee te genieten van tijdloze Top 2000 hits? We zien je graag bij het optreden van Greymen! \nAanvang: 16.00 uur.\nEntree: € 6\,-
URL:https://grandcafezuidlaren.nl/agenda/zondag-27-april-greymen/
LOCATION:Grand Café Zuidlaren\, De Millystraat 8\, Zuidlaren\, Drenthe\, 9471 AH\, Nederland
CATEGORIES:Agenda
ATTACH;FMTTYPE=image/jpeg:https://grandcafezuidlaren.nl/wp-content/uploads/Greymen.jpg
ORGANIZER;CN="Grand Caf%C3%A9 Zuidlaren":MAILTO:info@grandcafezuidlaren.nl
END:VEVENT
END:VCALENDAR