BEGIN:VCALENDAR
VERSION:2.0
PRODID:-//Grand Café Zuidlaren - ECPv6.15.18//NONSGML v1.0//EN
CALSCALE:GREGORIAN
METHOD:PUBLISH
X-WR-CALNAME:Grand Café Zuidlaren
X-ORIGINAL-URL:https://grandcafezuidlaren.nl
X-WR-CALDESC:Evenementen voor Grand Café Zuidlaren
REFRESH-INTERVAL;VALUE=DURATION:PT1H
X-Robots-Tag:noindex
X-PUBLISHED-TTL:PT1H
BEGIN:VTIMEZONE
TZID:Europe/Amsterdam
BEGIN:DAYLIGHT
TZOFFSETFROM:+0100
TZOFFSETTO:+0200
TZNAME:CEST
DTSTART:20240331T010000
END:DAYLIGHT
BEGIN:STANDARD
TZOFFSETFROM:+0200
TZOFFSETTO:+0100
TZNAME:CET
DTSTART:20241027T010000
END:STANDARD
BEGIN:DAYLIGHT
TZOFFSETFROM:+0100
TZOFFSETTO:+0200
TZNAME:CEST
DTSTART:20250330T010000
END:DAYLIGHT
BEGIN:STANDARD
TZOFFSETFROM:+0200
TZOFFSETTO:+0100
TZNAME:CET
DTSTART:20251026T010000
END:STANDARD
BEGIN:DAYLIGHT
TZOFFSETFROM:+0100
TZOFFSETTO:+0200
TZNAME:CEST
DTSTART:20260329T010000
END:DAYLIGHT
BEGIN:STANDARD
TZOFFSETFROM:+0200
TZOFFSETTO:+0100
TZNAME:CET
DTSTART:20261025T010000
END:STANDARD
END:VTIMEZONE
BEGIN:VEVENT
DTSTART;TZID=Europe/Amsterdam:20250105T160000
DTEND;TZID=Europe/Amsterdam:20250105T180000
DTSTAMP:20260421T175619
CREATED:20241212T080304Z
LAST-MODIFIED:20241223T094252Z
UID:10000127-1736092800-1736100000@grandcafezuidlaren.nl
SUMMARY:Zondag 5 januari: D-Wire
DESCRIPTION:Wens elkaar een gelukkig nieuwjaar tijdens een heerlijke middag: D-Wire!! \nD-Wire is een band die zijn oorsprong/ roots heeft in Zuidlaren en inmiddels al meer dan 40 jaar bestaat. De band bestaat uit Harry Jelijs (leadzanger/ gitaar)\, Jakob Moorlag (drum/ zang)\, Roel Weitering (basgitaar)\, Wietse De Jong (sologitaar) en Thijs Augusteijn (gitaar/zang). D- Wire speelt o.a. stevige rock\, (pittige) country maar ook ballads. Het repertoire van de band bestaat uit eigen nummers en de leden van de band spelen op geheel eigen wijze covers van enkele van hun muzikale helden zoals bijvoorbeeld Paul McCartney en The Beatles\, Eric Clapton\, Bruce Springsteen\, etc. Dat wordt weer genieten. \nAanvang: 16.00 uur\nEntree: € 6\,-
URL:https://grandcafezuidlaren.nl/agenda/zondag-5-januari-vieux/
LOCATION:Grand Café Zuidlaren\, De Millystraat 8\, Zuidlaren\, Drenthe\, 9471 AH\, Nederland
CATEGORIES:Agenda
ATTACH;FMTTYPE=image/jpeg:https://grandcafezuidlaren.nl/wp-content/uploads/d-wire.jpeg
ORGANIZER;CN="Grand Caf%C3%A9 Zuidlaren":MAILTO:info@grandcafezuidlaren.nl
END:VEVENT
BEGIN:VEVENT
DTSTART;TZID=Europe/Amsterdam:20250108T200000
DTEND;TZID=Europe/Amsterdam:20250108T230000
DTSTAMP:20260421T175619
CREATED:20250103T085934Z
LAST-MODIFIED:20250103T085934Z
UID:10000141-1736366400-1736377200@grandcafezuidlaren.nl
SUMMARY:Woensdag 8 januari: Women Only
DESCRIPTION:Muzikale nieuwjaarsborrel! \nVoor alle vrouwen uit Zuidlaren en omgeving.\nWe vullen de avond met muziek tijdens de nieuwjaarsborrel.\nOp het grote scherm kan je meezingen met je favoriete muzieknummers. Bedenk alvast van tevoren welke dat zijn. We maken er een gezellige boel van! \nVoor €15.- bieden we 2 consumpties aan met een aantal hapjes.\nWe beginnen om 20.00 Iedereen is welkom!
URL:https://grandcafezuidlaren.nl/agenda/woensdag-8-januari-women-only/
LOCATION:Grand Café Zuidlaren\, De Millystraat 8\, Zuidlaren\, Drenthe\, 9471 AH\, Nederland
CATEGORIES:Agenda
ATTACH;FMTTYPE=image/jpeg:https://grandcafezuidlaren.nl/wp-content/uploads/womenonlyjan25.jpg
ORGANIZER;CN="Grand Caf%C3%A9 Zuidlaren":MAILTO:info@grandcafezuidlaren.nl
END:VEVENT
BEGIN:VEVENT
DTSTART;TZID=Europe/Amsterdam:20250110T200000
DTEND;TZID=Europe/Amsterdam:20250110T233000
DTSTAMP:20260421T175619
CREATED:20250103T090300Z
LAST-MODIFIED:20250103T090300Z
UID:10000142-1736539200-1736551800@grandcafezuidlaren.nl
SUMMARY:Vrijdag 10 januari: Pub Quiz!!
DESCRIPTION:Trek je beste denkpet op\, want Grand Café Zuidlaren heeft de leukste PubQuiz van Zuidlaren! Of je nu een filmfanaat bent die elk detail van je favoriete blockbusters kent\, of een muziekkenner die elke noot herkent\, wij hebben de vragen die jouw kennis testen en je laten glimlachen. Terwijl je je hersenen laat kraken\, houden we bij wie er aan de leiding staat\, wat de strijd alleen maar intenser maakt. Gezelligheid ontmoet competitie in deze strijd. Aan het einde van de rit wacht een beloning voor het winnende team. En ook de verliezers wacht een verrassing. \nVorm een team van max. 6 personen\, verzin een leuke teamnaam en geef je op via reserveren@grandcafezuidlaren.nl. \nInloop: 20.00 uur\nAanvang: 20.30 uur\nEntree € 5\,-
URL:https://grandcafezuidlaren.nl/agenda/vrijdag-10-januari-pub-quiz/
LOCATION:Grand Café Zuidlaren\, De Millystraat 8\, Zuidlaren\, Drenthe\, 9471 AH\, Nederland
CATEGORIES:Agenda
ATTACH;FMTTYPE=image/png:https://grandcafezuidlaren.nl/wp-content/uploads/pubquiz-GC.png
ORGANIZER;CN="Grand Caf%C3%A9 Zuidlaren":MAILTO:info@grandcafezuidlaren.nl
END:VEVENT
BEGIN:VEVENT
DTSTART;TZID=Europe/Amsterdam:20250112T160000
DTEND;TZID=Europe/Amsterdam:20250112T180000
DTSTAMP:20260421T175619
CREATED:20241212T080545Z
LAST-MODIFIED:20241212T080545Z
UID:10000128-1736697600-1736704800@grandcafezuidlaren.nl
SUMMARY:Zondag 12 januari: Roots '66 met special guest!
DESCRIPTION:De band: Roots ’66 bestaande uit Arend Huizinga\, Sip Pluim\, Frits Boswijk en Jan Stuivenberg\, geeft een overzicht van de muzikale ontwikkelingen en stijlen vanaf de vroege Rock & Roll\, naar de Mersey Beat en via een vleugje Flower Power tot eind jaren ’60. Roots ‘66 is opgericht in 1986 in Zuidlaren en tot op de dag van vandaag speelt en repeteert de band wekelijks met plezier. \nMuziek van o.a. Elvis Presley\, Buddy Holly\, Eddy Cochran\, Carl Perkins\, The Beatles\, The Rolling Stones\, The Byrds\, The Kinks en The Searchers ontbreken zeker niet aan het repertoire. Alle nummers worden met veel energie en enthousiasme gespeeld en er kan weer lekker geswingd worden. Let’s go back to the roots… with Roots ‘66. Iedereen is welkom! \nAanvang: 16.00 uur.\nEntree € 6\,-
URL:https://grandcafezuidlaren.nl/agenda/zondag-12-januari-roots-66-met-special-guest/
LOCATION:Grand Café Zuidlaren\, De Millystraat 8\, Zuidlaren\, Drenthe\, 9471 AH\, Nederland
CATEGORIES:Agenda
ATTACH;FMTTYPE=image/jpeg:https://grandcafezuidlaren.nl/wp-content/uploads/root66.jpg
ORGANIZER;CN="Grand Caf%C3%A9 Zuidlaren":MAILTO:info@grandcafezuidlaren.nl
END:VEVENT
BEGIN:VEVENT
DTSTART;TZID=Europe/Amsterdam:20250119T160000
DTEND;TZID=Europe/Amsterdam:20250119T180000
DTSTAMP:20260421T175619
CREATED:20241218T104220Z
LAST-MODIFIED:20241218T104220Z
UID:10000136-1737302400-1737309600@grandcafezuidlaren.nl
SUMMARY:Zondag 19 januari: GoodVibes!
DESCRIPTION:GoodVibes is jaren geleden ontstaan als Asser-4Mijl-huisband. We kennen elkaar onderling al veel langer door het spelen in bands in verschillende formaties.\nWe hebben vorig jaar op de TT gestaan in Assen en spelen nog elk jaar bij de 4mijl in Assen. Naast andere feesten en partijen\, want we vinden elkaar in het spelen van Soul & Funk!\nDenk aan lekkere grooves van Stevie Wonder en Chaka Khan\, een vleugje Tina Turner en Joss Stone maar ook de Doobie Brothers komen voorbij. \nGoodVibes komt zondag 19 januari naar Zuidlaren met:\nMarcel Jasper\, drum – Elton Joseph\, bas – Edwin Bron\, toetsen – Reggie v/d Steen\, gitaar – Agnieta de Bruin\, zang. Iedereen is welkom! \nAanvang: 16.00 uur.\nEntree: € 6\,-
URL:https://grandcafezuidlaren.nl/agenda/zondag-19-januari-goodvibes/
LOCATION:Drenthe
CATEGORIES:Agenda
ATTACH;FMTTYPE=image/jpeg:https://grandcafezuidlaren.nl/wp-content/uploads/goodvibes.jpg
END:VEVENT
BEGIN:VEVENT
DTSTART;TZID=Europe/Amsterdam:20250126T160000
DTEND;TZID=Europe/Amsterdam:20250126T180000
DTSTAMP:20260421T175619
CREATED:20241218T104424Z
LAST-MODIFIED:20241218T104424Z
UID:10000137-1737907200-1737914400@grandcafezuidlaren.nl
SUMMARY:Zondag 26 januari: CONTRADICTION
DESCRIPTION:De magie van een dansend en meezingend publiek\, zwetend en feestend op nummers van nu en weleer\, kun je je het voorstellen? Dat is waarom Jeanette en Cynthia destijds hun oude bekenden vanuit het coverband circuit optrommelden om een lekkere frisse coverband op te richten: Contradiction! Swingende\, funkende\, groovende\, soulvolle covers\, van Bruno Mars tot Earth Wind en Fire. \nContradiction bestaat uit\, Cynthia Klaver zang\, Rody Tegelaar bas + zang\, Jelle Faber sax\, Koen Eekma toetsen\, Jeanette Vos sax + zang\, Mario Serra drums en Richard Corman gitaar. \nAanvang: 16.00 uur.\nEntree: € 6\,-
URL:https://grandcafezuidlaren.nl/agenda/zondag-26-januari-contradiction/
LOCATION:Drenthe
CATEGORIES:Agenda
ATTACH;FMTTYPE=image/jpeg:https://grandcafezuidlaren.nl/wp-content/uploads/CONTRADICTION.jpg
END:VEVENT
BEGIN:VEVENT
DTSTART;TZID=Europe/Amsterdam:20250131T200000
DTEND;TZID=Europe/Amsterdam:20250131T230000
DTSTAMP:20260421T175619
CREATED:20250120T084541Z
LAST-MODIFIED:20250127T093635Z
UID:10000145-1738353600-1738364400@grandcafezuidlaren.nl
SUMMARY:Vrijdag 31 januari: Cabaretgroep “Twee Recht\, Twee Averecht” UITVERKOCHT
DESCRIPTION:UITVERKOCHT \nGeorganiseerd door de Cultuurvereniging Zuidlaren \nDe cabaretgroep “Twee Recht\, Twee Averecht”\, bestaande uit 4 dames\, bestaat inmiddels al 40 jaar en brengen hun nieuwste programma “Gewildgroei” in het Grand Café Zuidlaren. \nEen vreemde titel voor de jubileumshow?\nHelemaal niet\, ‘Ge-wild-groei’ is zelfs het nieuwe woord in de Dikke van Dale. Alles wat vroeger als onkruid werd gezien\, werd verdelgd. Tegenwoordig genieten we en omarmen we de wilde bloemen in de perken en de bermen en gelukkig hebben we nu GEWILDGROEI! Twee Recht Twee Averecht is ook niet uit te roeien en komt met een humoristische bloemlezing over de diversiteit van het leven. De onderwerpen in het programma zijn actueel\, het spel is levendig en vooral lekker maf\, zoals in sketchjes over LHBTI+\, de camper en hooligans.\nVoor zelfspot zijn ze niet bang. Zonder gene etaleren ze hun onhandigheid in het omgaan met de mobiele telefoon en andere technische snufjes in huis. Hun mannen krijgen het er trouwens ook weer ongenadig van langs.\n‘Gewildgroei’ biedt daarnaast ook wat serieuze onderwerpen\, zoals de communicatie tussen moeder en dochter en de keuze ‘begraven of cremeren’. Het maakt een uitgebalanceerde show in een aangenaam tempo en volop pikante grappen. \nAanvang 20.00 uur\nEntree € 17\,50 (leden CVZ € 15\,-) inclusief consumptie. \nHet wordt dringend aangeraden kaarten in de voorverkoop te reserveren.\nKaarten zijn verkrijgbaar bij de CIGO in Zuidlaren.
URL:https://grandcafezuidlaren.nl/agenda/vrijdag-31-januari-cabaretgroep-twee-recht-twee-averecht/
LOCATION:Grand Café Zuidlaren\, De Millystraat 8\, Zuidlaren\, Drenthe\, 9471 AH\, Nederland
CATEGORIES:Agenda
ATTACH;FMTTYPE=image/jpeg:https://grandcafezuidlaren.nl/wp-content/uploads/Cabaretgroep-Twee-Recht-Twee-Averecht.jpg
ORGANIZER;CN="Grand Caf%C3%A9 Zuidlaren":MAILTO:info@grandcafezuidlaren.nl
END:VEVENT
END:VCALENDAR