BEGIN:VCALENDAR
VERSION:2.0
PRODID:-//Grand Café Zuidlaren - ECPv6.15.18//NONSGML v1.0//EN
CALSCALE:GREGORIAN
METHOD:PUBLISH
X-WR-CALNAME:Grand Café Zuidlaren
X-ORIGINAL-URL:https://grandcafezuidlaren.nl
X-WR-CALDESC:Evenementen voor Grand Café Zuidlaren
REFRESH-INTERVAL;VALUE=DURATION:PT1H
X-Robots-Tag:noindex
X-PUBLISHED-TTL:PT1H
BEGIN:VTIMEZONE
TZID:Europe/Amsterdam
BEGIN:DAYLIGHT
TZOFFSETFROM:+0100
TZOFFSETTO:+0200
TZNAME:CEST
DTSTART:20230326T010000
END:DAYLIGHT
BEGIN:STANDARD
TZOFFSETFROM:+0200
TZOFFSETTO:+0100
TZNAME:CET
DTSTART:20231029T010000
END:STANDARD
BEGIN:DAYLIGHT
TZOFFSETFROM:+0100
TZOFFSETTO:+0200
TZNAME:CEST
DTSTART:20240331T010000
END:DAYLIGHT
BEGIN:STANDARD
TZOFFSETFROM:+0200
TZOFFSETTO:+0100
TZNAME:CET
DTSTART:20241027T010000
END:STANDARD
BEGIN:DAYLIGHT
TZOFFSETFROM:+0100
TZOFFSETTO:+0200
TZNAME:CEST
DTSTART:20250330T010000
END:DAYLIGHT
BEGIN:STANDARD
TZOFFSETFROM:+0200
TZOFFSETTO:+0100
TZNAME:CET
DTSTART:20251026T010000
END:STANDARD
END:VTIMEZONE
BEGIN:VEVENT
DTSTART;TZID=Europe/Amsterdam:20241201T160000
DTEND;TZID=Europe/Amsterdam:20241201T180000
DTSTAMP:20260421T161633
CREATED:20241118T085509Z
LAST-MODIFIED:20241118T085509Z
UID:10000117-1733068800-1733076000@grandcafezuidlaren.nl
SUMMARY:Zondag 1 december: The 4Horsemen
DESCRIPTION:The 4Horsemen\, opgericht in 2005 in Groningen is een energieke bluesband en daardoor al jaren favoriet  bij veel muziekcafés en festivals. In haar bijna twintig jarig bestaan heeft de band op veel podia gestaan  in Nederland\, maar ook Duitsland\, België en zelfs Ierland. Met een repertoire dat eigen werk combineert met zelf gearrangeerde blues covers\, staat de band bekend om haar enthousiaste live optredens. De gitaar neemt daarin een belangrijke plaats in maar even zo goed hoor je saxofoon en piano solo’s. Dit alles ondersteund door een stuwende ritmesectie.\nSinds 2024 bestaat the 4Horsemen uit: Gertjan Blaauw – zang en saxofoon\, Joost Karseboom – gitaar\, Wouter Middel – bas en zang\, Taco Veltman – toetsen\, Hubert van der Jeugd – drums. \nAanvang: 16.00 uur\nEntree: € 6\,-
URL:https://grandcafezuidlaren.nl/agenda/zondag-1-december-the-4horsemen/
LOCATION:Grand Café Zuidlaren\, De Millystraat 8\, Zuidlaren\, Drenthe\, 9471 AH\, Nederland
CATEGORIES:Agenda
ATTACH;FMTTYPE=image/jpeg:https://grandcafezuidlaren.nl/wp-content/uploads/the-4horsemen.jpg
ORGANIZER;CN="Grand Caf%C3%A9 Zuidlaren":MAILTO:info@grandcafezuidlaren.nl
END:VEVENT
BEGIN:VEVENT
DTSTART;TZID=Europe/Amsterdam:20241201T180000
DTEND;TZID=Europe/Amsterdam:20241201T210000
DTSTAMP:20260421T161633
CREATED:20241118T090615Z
LAST-MODIFIED:20241121T182833Z
UID:10000121-1733076000-1733086800@grandcafezuidlaren.nl
SUMMARY:Zondag 1 december: Live Sport GP Qatar
DESCRIPTION:GP Qatar \nAanvang: 18.00 uur
URL:https://grandcafezuidlaren.nl/agenda/zondag-1-december-live-sport-gp-qatar/
LOCATION:Grand Café Zuidlaren\, De Millystraat 8\, Zuidlaren\, Drenthe\, 9471 AH\, Nederland
CATEGORIES:Agenda
ATTACH;FMTTYPE=image/jpeg:https://grandcafezuidlaren.nl/wp-content/uploads/tv-sport-live.jpg
ORGANIZER;CN="Grand Caf%C3%A9 Zuidlaren":MAILTO:info@grandcafezuidlaren.nl
END:VEVENT
BEGIN:VEVENT
DTSTART;TZID=Europe/Amsterdam:20241204T193000
DTEND;TZID=Europe/Amsterdam:20241204T230000
DTSTAMP:20260421T161633
CREATED:20241118T091113Z
LAST-MODIFIED:20241125T085330Z
UID:10000123-1733340600-1733353200@grandcafezuidlaren.nl
SUMMARY:Woensdag 4 december: Women Only
DESCRIPTION:In deze feestmaand gaan we heel toepasselijk “Het Cadeauspel” spelen.\nDit is een dobbelspel vol met verrassingen….\, lol\, gelach en hilariteit. \nEen ieder neemt 2 ingepakte cadeautjes mee rond de 4 à 5 euro per stuk. (liever geen kaarsen en badschuim.) Denk aan iets leuks\, grappig of gek. \nDe volgende regels zijn van toepassing:\n– Je kan een cadeau winnen.\n– Je moet er 1 weggeven.\n– Je moet ruilen met een ander.\n– Je mag 1 afpakken.\n– Een beurt overslaan.\n– Opdracht uitvoeren. \nWelkom op deze gezellige vrouwenavond. Het spel kan wat uitlopen daarom starten we om 19.30 uur.
URL:https://grandcafezuidlaren.nl/agenda/woensdag-4-december-women-only/
LOCATION:Grand Café Zuidlaren\, De Millystraat 8\, Zuidlaren\, Drenthe\, 9471 AH\, Nederland
CATEGORIES:Agenda
ATTACH;FMTTYPE=image/jpeg:https://grandcafezuidlaren.nl/wp-content/uploads/Cadeauspel.jpg
ORGANIZER;CN="Grand Caf%C3%A9 Zuidlaren":MAILTO:info@grandcafezuidlaren.nl
END:VEVENT
BEGIN:VEVENT
DTSTART;TZID=Europe/Amsterdam:20241208T140000
DTEND;TZID=Europe/Amsterdam:20241208T170000
DTSTAMP:20260421T161633
CREATED:20241118T090721Z
LAST-MODIFIED:20241122T091300Z
UID:10000122-1733666400-1733677200@grandcafezuidlaren.nl
SUMMARY:Zondag 8 december: Live Sport GP Abu Dhabi
DESCRIPTION:GP Abu Dhabi  \nAanvang: 14.00 uur
URL:https://grandcafezuidlaren.nl/agenda/zondag-8-december-live-sport-gp-abu-dhabi/
LOCATION:Grand Café Zuidlaren\, De Millystraat 8\, Zuidlaren\, Drenthe\, 9471 AH\, Nederland
CATEGORIES:Agenda
ATTACH;FMTTYPE=image/jpeg:https://grandcafezuidlaren.nl/wp-content/uploads/tv-sport-live.jpg
ORGANIZER;CN="Grand Caf%C3%A9 Zuidlaren":MAILTO:info@grandcafezuidlaren.nl
END:VEVENT
BEGIN:VEVENT
DTSTART;TZID=Europe/Amsterdam:20241208T160000
DTEND;TZID=Europe/Amsterdam:20241208T180000
DTSTAMP:20260421T161633
CREATED:20241118T085716Z
LAST-MODIFIED:20241118T085716Z
UID:10000118-1733673600-1733680800@grandcafezuidlaren.nl
SUMMARY:Zondag 8 december: Rolling Pin
DESCRIPTION:Rolling Pin speelt dè klassieke Progrock/Rock/Laidback countryrock/Soul en ietsiepietsie Blues songs waarvan je dacht dat je ze nooit meer live te horen zou krijgen….\nRolling Pin is tijdens de Coronaperiode ontstaan in de omgeving Winschoten/Veendam\, na wat wisselende bezettingen staat er nu een rockband met een speciaal karakter. De band speelt niet de vaak gespeelde nummers\, maar net de andere songs die we ook kennen van bekende bands. \nKortom\, een mooie mix van klassieke rockhits en de energieke vibe van Rolling Pin.\nOf je nu fan bent van Deep Purple\, Joe Bonamassa\, Herman Brood\, The Beatles\, Procol Harum of andere rocklegendes\, Rolling Pin heeft voor elk wat wils. Muzikale uitdagingen gaat de band niet uit de weg en hun aanstekelijke energie staat garant voor een optreden dat je niet snel zult vergeten. \nAanvang: 16.00 uur\nEntree: € 6\,-
URL:https://grandcafezuidlaren.nl/agenda/zondag-8-december-rolling-pin/
LOCATION:Grand Café Zuidlaren\, De Millystraat 8\, Zuidlaren\, Drenthe\, 9471 AH\, Nederland
CATEGORIES:Agenda
ATTACH;FMTTYPE=image/jpeg:https://grandcafezuidlaren.nl/wp-content/uploads/Rolling-Pin.jpg
ORGANIZER;CN="Grand Caf%C3%A9 Zuidlaren":MAILTO:info@grandcafezuidlaren.nl
END:VEVENT
BEGIN:VEVENT
DTSTART;TZID=Europe/Amsterdam:20241213T200000
DTEND;TZID=Europe/Amsterdam:20241213T233000
DTSTAMP:20260421T161633
CREATED:20241212T080940Z
LAST-MODIFIED:20241212T081002Z
UID:10000129-1734120000-1734132600@grandcafezuidlaren.nl
SUMMARY:Vrijdag 13 december: Eindejaars- Pub Quiz
DESCRIPTION:Het is al bijna weer zover; de leukste PubQuiz van Zuidlaren op Vrijdag 13 december. Deze keer in de vorm van een Ultieme Eindejaars- PubQuiz. vol uitdagende rondes en vragen die je kennis van het afgelopen jaar op de proef stellen. Ontdek wie van jullie gezelschap het beste op de hoogte is van wat zich afspeelde in 2024! Een onvergetelijke quizervaring die perfect is voor een gezellige avond met vrienden\, familie\, of collega’s!  Durf je de strijd aan? Geef je dan snel op. Het succes als team hangt samen met het aantal deelnemers. \nVorm een team van max. 6 personen\, verzin een leuke teamnaam en geef je op via reserveren@grandcafezuidlaren.nl. \nInloop: 20.00 uur\nAanvang: 20.30 uur\nEntree € 5\,- p.p\nVOL= VOL!
URL:https://grandcafezuidlaren.nl/agenda/vrijdag-13-december-eindejaars-pub-quiz/
LOCATION:Grand Café Zuidlaren\, De Millystraat 8\, Zuidlaren\, Drenthe\, 9471 AH\, Nederland
CATEGORIES:Agenda
ATTACH;FMTTYPE=image/png:https://grandcafezuidlaren.nl/wp-content/uploads/pubquiz-GC.png
ORGANIZER;CN="Grand Caf%C3%A9 Zuidlaren":MAILTO:info@grandcafezuidlaren.nl
END:VEVENT
BEGIN:VEVENT
DTSTART;TZID=Europe/Amsterdam:20241215T160000
DTEND;TZID=Europe/Amsterdam:20241215T180000
DTSTAMP:20260421T161633
CREATED:20241118T090012Z
LAST-MODIFIED:20241125T084117Z
UID:10000119-1734278400-1734285600@grandcafezuidlaren.nl
SUMMARY:Zondag 15 december: TOOSST
DESCRIPTION:TOOSST is sinds januari 2011 uitgegroeid tot een 5-mans formatie die nog steeds stevig aan de weg timmert met een gevarieerd cover repertoire.\nZe weten ze van elk optreden een swingend succes te maken. Semi akoestisch\, intiem in de huiskamer of groots uitgepakt; het kan allemaal. Van tuinfeest tot bedrijfsfeest\, het TT festival in Assen\, het Speciaal Bierfestival op Texel of het Waterbei festival in Winschoten: TOOSST is een graag geziene gast. Elk jaar wordt afgesloten met een eigen Theatershow ‘TOOSST a GOGO’ die dit jaar plaatsvindt op 28 december in Theater De Tramwerkplaats in Winschoten. \n15 december a.s. speelt TOOSST de Try-Out voor deze show in Grand Café Zuidlaren.\nBezetting: Hans Oosting – Leadzang John Steneker – Toetsen\, gitaar en zang Marcel Steneker – Gitaar en zang Patrick Klei – Drums en zang  Erik Drent – Bas\nIedereen is welkom! \nAanvang: 16.00 uur\nEntree: € 6\,-
URL:https://grandcafezuidlaren.nl/agenda/zondag-15-december-toosst/
LOCATION:Grand Café Zuidlaren\, De Millystraat 8\, Zuidlaren\, Drenthe\, 9471 AH\, Nederland
CATEGORIES:Agenda
ATTACH;FMTTYPE=image/jpeg:https://grandcafezuidlaren.nl/wp-content/uploads/TOOSST.jpg
ORGANIZER;CN="Grand Caf%C3%A9 Zuidlaren":MAILTO:info@grandcafezuidlaren.nl
END:VEVENT
BEGIN:VEVENT
DTSTART;TZID=Europe/Amsterdam:20241222T160000
DTEND;TZID=Europe/Amsterdam:20241222T180000
DTSTAMP:20260421T161633
CREATED:20241118T090250Z
LAST-MODIFIED:20241222T141506Z
UID:10000120-1734883200-1734890400@grandcafezuidlaren.nl
SUMMARY:Zondag 22 december: Williamstown Inc.
DESCRIPTION:Williamstown Inc. timmert al sinds de oprichting in 2011 aan de weg en is in de loop der jaren een paar keer van samenstelling veranderd.  De bandleden komen uit Friesland en Groningen (no problem!).\nOp het podium staan vijf zeer ervaren muzikanten\, die met enthousiasme en energie hun repertoire laten horen. Hun optredens bestaan uit mooie blues/rock covers van o.a. Stevie Ray Vaughan\, Joe Bonamassa\, Walter Trout en ZZ Top. Maar ook minder bekende\, maar zeer boeiende\, blues/rocknummers komen langs. Met veel plezier zullen zij op zondag 22 december in Grand Café Zuidlaren aantreden. Het doel is om het publiek een fijne tijd te laten beleven. Pas dan vinden zij hun missie geslaagd.\nOp de foto van links naar rechts: Harrie Hut (bas)\, Kees Mulder (sologitaar)\, Johan Boxem (drums)\, Frank Hoiting (toetsen) en Erik Thedinga (zang en mondharp). \nAanvang: 16.00 uur.\nEntree € 6\,-
URL:https://grandcafezuidlaren.nl/agenda/zondag-22-december-williamstown-inc/
LOCATION:Grand Café Zuidlaren\, De Millystraat 8\, Zuidlaren\, Drenthe\, 9471 AH\, Nederland
CATEGORIES:Agenda
ATTACH;FMTTYPE=image/jpeg:https://grandcafezuidlaren.nl/wp-content/uploads/Williamstown-Inc.jpg
ORGANIZER;CN="Grand Caf%C3%A9 Zuidlaren":MAILTO:info@grandcafezuidlaren.nl
END:VEVENT
BEGIN:VEVENT
DTSTART;TZID=Europe/Amsterdam:20241228T210000
DTEND;TZID=Europe/Amsterdam:20241228T233000
DTSTAMP:20260421T161633
CREATED:20241125T085938Z
LAST-MODIFIED:20241223T095729Z
UID:10000126-1735419600-1735428600@grandcafezuidlaren.nl
SUMMARY:Zaterdag 28 december: Milly's Noise
DESCRIPTION:Zaterdag 28 december: Milly’s Noise!!
URL:https://grandcafezuidlaren.nl/agenda/zaterdag-28-december-millys-noise/
LOCATION:Grand Café Zuidlaren\, De Millystraat 8\, Zuidlaren\, Drenthe\, 9471 AH\, Nederland
CATEGORIES:Agenda
ATTACH;FMTTYPE=image/jpeg:https://grandcafezuidlaren.nl/wp-content/uploads/postermillysnoise.jpg
ORGANIZER;CN="Grand Caf%C3%A9 Zuidlaren":MAILTO:info@grandcafezuidlaren.nl
END:VEVENT
BEGIN:VEVENT
DTSTART;TZID=Europe/Amsterdam:20241229T160000
DTEND;TZID=Europe/Amsterdam:20241229T180000
DTSTAMP:20260421T161633
CREATED:20241125T085016Z
LAST-MODIFIED:20241212T075938Z
UID:10000124-1735488000-1735495200@grandcafezuidlaren.nl
SUMMARY:Zondag 29 december: DAVES
DESCRIPTION:DAVES is David Bowie\, Talking Heads\, Simple Minds\, Duran Duran en meer. Na Muskee\, Fandango\, Fox the Fox en Crocodile Smile zijn ze\, zo helemaal klaar voor het echte werk: DAVES!       7 enthousiaste muzikanten brengen de jaren tachtig weer tot leven. Laat u meevoeren op de wolken van hoop\, valse herinnerringen en nostalgie. Put on your dancing shoes and dance the blues!! \nAanvang: 16.00 uur.\nEntree: € 6\,-
URL:https://grandcafezuidlaren.nl/agenda/zondag-29-december-daves/
LOCATION:Grand Café Zuidlaren\, De Millystraat 8\, Zuidlaren\, Drenthe\, 9471 AH\, Nederland
CATEGORIES:Agenda
ATTACH;FMTTYPE=image/jpeg:https://grandcafezuidlaren.nl/wp-content/uploads/daves.jpg
ORGANIZER;CN="Grand Caf%C3%A9 Zuidlaren":MAILTO:info@grandcafezuidlaren.nl
END:VEVENT
END:VCALENDAR