BEGIN:VCALENDAR
VERSION:2.0
PRODID:-//Grand Café Zuidlaren - ECPv6.15.18//NONSGML v1.0//EN
CALSCALE:GREGORIAN
METHOD:PUBLISH
X-ORIGINAL-URL:https://grandcafezuidlaren.nl
X-WR-CALDESC:Evenementen voor Grand Café Zuidlaren
REFRESH-INTERVAL;VALUE=DURATION:PT1H
X-Robots-Tag:noindex
X-PUBLISHED-TTL:PT1H
BEGIN:VTIMEZONE
TZID:Europe/Amsterdam
BEGIN:DAYLIGHT
TZOFFSETFROM:+0100
TZOFFSETTO:+0200
TZNAME:CEST
DTSTART:20230326T010000
END:DAYLIGHT
BEGIN:STANDARD
TZOFFSETFROM:+0200
TZOFFSETTO:+0100
TZNAME:CET
DTSTART:20231029T010000
END:STANDARD
BEGIN:DAYLIGHT
TZOFFSETFROM:+0100
TZOFFSETTO:+0200
TZNAME:CEST
DTSTART:20240331T010000
END:DAYLIGHT
BEGIN:STANDARD
TZOFFSETFROM:+0200
TZOFFSETTO:+0100
TZNAME:CET
DTSTART:20241027T010000
END:STANDARD
BEGIN:DAYLIGHT
TZOFFSETFROM:+0100
TZOFFSETTO:+0200
TZNAME:CEST
DTSTART:20250330T010000
END:DAYLIGHT
BEGIN:STANDARD
TZOFFSETFROM:+0200
TZOFFSETTO:+0100
TZNAME:CET
DTSTART:20251026T010000
END:STANDARD
END:VTIMEZONE
BEGIN:VEVENT
DTSTART;TZID=Europe/Amsterdam:20241002T193000
DTEND;TZID=Europe/Amsterdam:20241002T193000
DTSTAMP:20260422T081308
CREATED:20240928T094956Z
LAST-MODIFIED:20240928T095721Z
UID:10000086-1727897400-1727897400@grandcafezuidlaren.nl
SUMMARY:Woensdag 2 oktober: Women Only
DESCRIPTION:Op woensdag 2 oktober organiseren we weer een “Women Only” avond.  Deze keer gaan we de film: \n“HOUSE OF GUCCI” kijken. \nWeten wat er allemaal achter dat leuke pied-de-poule-mantel-pakje schuilgaat? In de modefilm House of Gucci volgen we de ware gebeurtenissen achter het familie-imperium. Een verhaal vol liefde\, verraad\, decadentie\, wraak en uiteindelijk zelfs moord. Hoever is de familie bereid te gaan om de naam van het befaamde modemerk hoog te houden?? \nOnder het genot van een Drankje en een Bitterbal en natuurlijk weer heel veel gezelligheid\, zien we jullie graag verschijnen. Alle vrouwen zijn welkom en neem je vriendinnen mee!\nAanvang:  19.30 uur. 
URL:https://grandcafezuidlaren.nl/agenda/woensdag-2-oktober-women-only/
LOCATION:Grand Café Zuidlaren\, De Millystraat 8\, Zuidlaren\, Drenthe\, 9471 AH\, Nederland
CATEGORIES:Agenda
ATTACH;FMTTYPE=image/jpeg:https://grandcafezuidlaren.nl/wp-content/uploads/womenonlyfilmavondmethouseofgucci.jpg
ORGANIZER;CN="Grand Caf%C3%A9 Zuidlaren":MAILTO:info@grandcafezuidlaren.nl
END:VEVENT
BEGIN:VEVENT
DTSTART;TZID=Europe/Amsterdam:20241006T160000
DTEND;TZID=Europe/Amsterdam:20241006T180000
DTSTAMP:20260422T081308
CREATED:20240928T100147Z
LAST-MODIFIED:20240928T100147Z
UID:10000087-1728230400-1728237600@grandcafezuidlaren.nl
SUMMARY:Zondag 6 oktober: The Outtakes
DESCRIPTION:The Outtakes is de ultieme band voor wie vindt dat het tijd wordt voor een goed feest met de muziek uit midden 60s tot begin 80s en spelen o.a. “The Moody Blues\, David Bowie en andere”. The Outtakes bestaat uit Coos Grevelink op gitaar\, zang en mondharmonica\, Harrie Groenewold op drums\, Ger Warink\, bas en zang en Dicky Gilbers op toetsen\, zang en akoestische gitaar. Dat wordt zondagmiddag weer muzikaal genieten! \nAanvang: 16.00 uur\nEntree € 6\,- \nReserveren kan via info@grandcafezuidlaren.nl. Graag je naam en het aantal personen vermelden.\nDe tickets liggen dan klaar om afgerekend te worden bij de kassa (entree).
URL:https://grandcafezuidlaren.nl/agenda/zondag-6-oktober-the-outtakes/
LOCATION:Grand Café Zuidlaren\, De Millystraat 8\, Zuidlaren\, Drenthe\, 9471 AH\, Nederland
CATEGORIES:Agenda
ATTACH;FMTTYPE=image/jpeg:https://grandcafezuidlaren.nl/wp-content/uploads/The-Outtakes.jpg
ORGANIZER;CN="Grand Caf%C3%A9 Zuidlaren":MAILTO:info@grandcafezuidlaren.nl
END:VEVENT
BEGIN:VEVENT
DTSTART;TZID=Europe/Amsterdam:20241011T200000
DTEND;TZID=Europe/Amsterdam:20241011T200000
DTSTAMP:20260422T081308
CREATED:20240928T101455Z
LAST-MODIFIED:20241009T073705Z
UID:10000092-1728676800-1728676800@grandcafezuidlaren.nl
SUMMARY:Vrijdag 11 oktober: Pubquiz VOL!!!
DESCRIPTION:Trek je beste denkpet op\, want Grand Café Zuidlaren heeft de leukste PubQuiz van Zuidlaren! Of je nu een filmfanaat bent die elk detail van je favoriete blockbusters kent\, of een muziekkenner die elke noot herkent\, wij hebben de vragen die jouw kennis testen en je laten glimlachen. Terwijl je je hersenen laat kraken\, houden we bij wie er aan de leiding staat\, wat de strijd alleen maar intenser maakt. Gezelligheid ontmoet competitie in deze strijd. Aan het einde van de rit wacht een beloning voor het winnende team. En ook de verliezers wacht een verrassing. \nVorm een team van max. 6 personen\, verzin een leuke teamnaam en geef je op via reserveren@grandcafezuidlaren.nl. \nInloop: 20.00 uur\nAanvang: 20.30 uur\nEntree € 5\,-
URL:https://grandcafezuidlaren.nl/agenda/vrijdag-11-oktober-pubquiz/
LOCATION:Grand Café Zuidlaren\, De Millystraat 8\, Zuidlaren\, Drenthe\, 9471 AH\, Nederland
CATEGORIES:Agenda
ATTACH;FMTTYPE=image/png:https://grandcafezuidlaren.nl/wp-content/uploads/pubquiz-GC.png
ORGANIZER;CN="Grand Caf%C3%A9 Zuidlaren":MAILTO:info@grandcafezuidlaren.nl
END:VEVENT
BEGIN:VEVENT
DTSTART;TZID=Europe/Amsterdam:20241012T213000
DTEND;TZID=Europe/Amsterdam:20241012T213000
DTSTAMP:20260422T081308
CREATED:20241010T071625Z
LAST-MODIFIED:20241010T071749Z
UID:10000107-1728768600-1728768600@grandcafezuidlaren.nl
SUMMARY:Zuidlaardermarkt Zaterdag 12 oktober: 2ENJOY
DESCRIPTION:ZATERDAGAVOND is het dansen en meezingen geblazen in Grand Café Zuidlaren tijdens een spetterend optreden van: 2ENJOY!! Een coverband met hits uit de jaren ’70 tot en met nu. Twee zangeressen en een ervaren band op het podium! Het repertoire gaat alle kanten op en dat maakt 2ENJOY uniek\, het gaat van ABBA naar Bon Jovi en van Queen naar Helene Fischer! Stilstaan is niet mogelijk! \nAanvang 21.30 uur.\nEntree: gratis.
URL:https://grandcafezuidlaren.nl/agenda/zuidlaardermarkt-zaterdag-12-oktober-2enjoy/
LOCATION:Grand Café Zuidlaren\, De Millystraat 8\, Zuidlaren\, Drenthe\, 9471 AH\, Nederland
CATEGORIES:Agenda
ATTACH;FMTTYPE=image/jpeg:https://grandcafezuidlaren.nl/wp-content/uploads/2ENJOY.jpg
ORGANIZER;CN="Grand Caf%C3%A9 Zuidlaren":MAILTO:info@grandcafezuidlaren.nl
END:VEVENT
BEGIN:VEVENT
DTSTART;TZID=Europe/Amsterdam:20241013T160000
DTEND;TZID=Europe/Amsterdam:20241013T180000
DTSTAMP:20260422T081308
CREATED:20240928T100416Z
LAST-MODIFIED:20240928T100416Z
UID:10000088-1728835200-1728842400@grandcafezuidlaren.nl
SUMMARY:Zondag 13 oktober: D-Wire
DESCRIPTION:D-Wire is een band die zijn oorsprong/ roots heeft in Zuidlaren en inmiddels al meer dan 39 jaar bestaat. De band bestaat uit Harry Jelijs (leadzanger/ gitaar)\, Jakob Moorlag (drum/ zang)\, Roel Weitering (basgitaar) en Wietse De Jong (sologitaar). D- Wire speelt o.a. stevige rock\, (pittige) country maar ook ballads. Het repertoire van de band bestaat uit eigen nummers en de leden van de band spelen op geheel eigen wijze covers van enkele van hun muzikale helden zoals bijvoorbeeld Paul McCartney en The Beatles\, Eric Clapton\, Bruce Springsteen\, etc. Traditiegetrouw met de Zuidlaardermarkt spelen ze op het podium in het Grand Café! Dat wordt weer genieten. \nAanvang: 16.00 uur
URL:https://grandcafezuidlaren.nl/agenda/zondag-13-oktober-d-wire/
LOCATION:Grand Café Zuidlaren\, De Millystraat 8\, Zuidlaren\, Drenthe\, 9471 AH\, Nederland
CATEGORIES:Agenda
ATTACH;FMTTYPE=image/jpeg:https://grandcafezuidlaren.nl/wp-content/uploads/d-wire.jpeg
ORGANIZER;CN="Grand Caf%C3%A9 Zuidlaren":MAILTO:info@grandcafezuidlaren.nl
END:VEVENT
BEGIN:VEVENT
DTSTART;TZID=Europe/Amsterdam:20241014T213000
DTEND;TZID=Europe/Amsterdam:20241014T213000
DTSTAMP:20260422T081308
CREATED:20241010T072042Z
LAST-MODIFIED:20241010T072329Z
UID:10000108-1728941400-1728941400@grandcafezuidlaren.nl
SUMMARY:Zuidlaardermarkt Maandag 14 oktober: Greymen
DESCRIPTION:Het is nooit te laat om te schitteren in een popband!’ dachten 5 ‘grijze’\, maar uiterst jeugdige\, mannen uit Groningen een aantal jaren geleden. Ze gingen wekelijks repeteren en vormden de band GREYMEN. Inmiddels spelen ze menig feest\, festival of kroeg plat met diverse covers van o.a. U2\, Golden Earring\, De Dijk\, Herman Brood en Kool And The Gang.\nDus heb je zin om te dansen\, mee te zingen en bovenal mee te genieten van tijdloze\nTop 2000 hits? Dan zien we je graag maandag 14 oktober bij een optreden van GREYMEN. \nAanvang: 21.30 uur.\nEntree is gratis.
URL:https://grandcafezuidlaren.nl/agenda/zuidlaardermarkt-maandag-14-oktober-greymen/
LOCATION:Grand Café Zuidlaren\, De Millystraat 8\, Zuidlaren\, Drenthe\, 9471 AH\, Nederland
CATEGORIES:Agenda
ATTACH;FMTTYPE=image/jpeg:https://grandcafezuidlaren.nl/wp-content/uploads/Greymen.jpg
ORGANIZER;CN="Grand Caf%C3%A9 Zuidlaren":MAILTO:info@grandcafezuidlaren.nl
END:VEVENT
BEGIN:VEVENT
DTSTART;TZID=Europe/Amsterdam:20241015T140000
DTEND;TZID=Europe/Amsterdam:20241015T170000
DTSTAMP:20260422T081308
CREATED:20241010T072544Z
LAST-MODIFIED:20241010T072544Z
UID:10000109-1729000800-1729011600@grandcafezuidlaren.nl
SUMMARY:Zuidlaardermarkt Dinsdag 15 oktober:Ronald Nihot en Coos Grevelink
DESCRIPTION:Tijdens de Zuidlaardermarkt\, Vanaf 14.00 uur spelen in het Grand Café; Ronald Nihot en Coos Grevelink! Samen zullen ze een trip terug in de tijd verzorgen met de beste popliedjes van alle  tijden.  Alle grote hits uit de Sixties\, Seventies\, Eighties\, tot…… nu komen voorbij. Sfeervolle muziek op een aangenaam volume. Een greep uit het repertoire; The Beatles\, Rolling Stones\, Moody Blues\, The Byrds\, The Eagles\, Billy Joel\, James Taylor\, CCR\, Albert Hammond\, U2\, Supertramp\, Boudewijn de Groot etc. Liedjes om heerlijk naar te luisteren en mee te zingen!.\nDat wordt dus weer genieten! \nAanvang: 14.00 uur.\nEntree is gratis.
URL:https://grandcafezuidlaren.nl/agenda/zuidlaardermarkt-dinsdag-15-oktoberronald-nihot-en-coos-grevelink/
LOCATION:Grand Café Zuidlaren\, De Millystraat 8\, Zuidlaren\, Drenthe\, 9471 AH\, Nederland
CATEGORIES:Agenda
ATTACH;FMTTYPE=image/jpeg:https://grandcafezuidlaren.nl/wp-content/uploads/ronaldnihotencoosgrevelink.jpg
ORGANIZER;CN="Grand Caf%C3%A9 Zuidlaren":MAILTO:info@grandcafezuidlaren.nl
END:VEVENT
BEGIN:VEVENT
DTSTART;TZID=Europe/Amsterdam:20241020T160000
DTEND;TZID=Europe/Amsterdam:20241020T180000
DTSTAMP:20260422T081308
CREATED:20240928T100615Z
LAST-MODIFIED:20240928T100615Z
UID:10000089-1729440000-1729447200@grandcafezuidlaren.nl
SUMMARY:Zondag 20 oktober: Ed Baker and the Boogie Machine
DESCRIPTION:Deze swingende Noord-Nederlandse band voert u terug naar de blues en boogie van 1950\, in de sfeer van smaakbepalende artiesten als Fats Domino en Ray Charles. De voorliefde voor dit genre is duidelijk merkbaar door het aanstekelijke enthousiasme waarmee de nummers worden uitgevoerd\, met stampende boogiewoogie\, smaakvolle soul & blues en stevige shuffles. Jawel\, u waant zich weer even terug in de danscafé’s van halverwege de vorige eeuw. \nOp de voorste rij staat zanger Adward Bakker\, die zijn stem smaakvol met de bluesharp aanvult. Aan de toetsen zit Martienes de Wit\, die vingervlugge boogiewoogie afwisselt met opzwepende hammondklanken. Domi Aerts is als gitarist zo veelzijdig dat hij niet onder één hoed gevangen kan worden\, draadloos danst hij al spelend de hele zaal door. De ritmesectie bestaat uit Ted Jordens op contrabas en basgitaar en Peter Kalisvaart op drums\, voor hen is geen boogiewoogie te snel of blues te zompig. Kortom\, een op elkaar reagerende muziekmachine die garant staat voor een bijzonder optreden. \nAanvang: 16.00 uur\nEntree € 6\,- \nReserveren kan via info@grandcafezuidlaren.nl. Graag je naam en het aantal personen vermelden.\nDe tickets liggen dan klaar om afgerekend te worden bij de kassa (entree).
URL:https://grandcafezuidlaren.nl/agenda/zondag-20-oktober-ed-baker-and-the-boogie-machine/
LOCATION:Grand Café Zuidlaren\, De Millystraat 8\, Zuidlaren\, Drenthe\, 9471 AH\, Nederland
CATEGORIES:Agenda
ATTACH;FMTTYPE=image/jpeg:https://grandcafezuidlaren.nl/wp-content/uploads/Ed-Baker-and-the-Boogie-Machine.jpg
ORGANIZER;CN="Grand Caf%C3%A9 Zuidlaren":MAILTO:info@grandcafezuidlaren.nl
END:VEVENT
BEGIN:VEVENT
DTSTART;TZID=Europe/Amsterdam:20241020T210000
DTEND;TZID=Europe/Amsterdam:20241020T210000
DTSTAMP:20260422T081308
CREATED:20240928T102304Z
LAST-MODIFIED:20240928T102327Z
UID:10000093-1729458000-1729458000@grandcafezuidlaren.nl
SUMMARY:Zondag 20 oktober: Live Sport GP Verenigde Staten
DESCRIPTION:GP Verenigde Staten \nAanvang: 21.00 uur
URL:https://grandcafezuidlaren.nl/agenda/zondag-20-oktober-live-sport-gp-verenigde-staten/
LOCATION:Grand Café Zuidlaren\, De Millystraat 8\, Zuidlaren\, Drenthe\, 9471 AH\, Nederland
CATEGORIES:Agenda
ATTACH;FMTTYPE=image/jpeg:https://grandcafezuidlaren.nl/wp-content/uploads/GP.jpg
ORGANIZER;CN="Grand Caf%C3%A9 Zuidlaren":MAILTO:info@grandcafezuidlaren.nl
END:VEVENT
BEGIN:VEVENT
DTSTART;TZID=Europe/Amsterdam:20241027T160000
DTEND;TZID=Europe/Amsterdam:20241027T180000
DTSTAMP:20260422T081308
CREATED:20240928T100757Z
LAST-MODIFIED:20241017T110738Z
UID:10000090-1730044800-1730052000@grandcafezuidlaren.nl
SUMMARY:Zondag 27 oktober: Cat Fever Band
DESCRIPTION:Een zestal gelouterde muzikanten\, die inmiddels al meer dan 10 jaar met veel plezier en energie samen de blues spelen. Hoewel\, blues? Ja\, toch wel. Maar dan op een erg toegankelijke\, swingende wijze\, groovy\, zoals de mannen het zelf duiden. Cat Fever Band laat zich niet alleen graag inspireren door traditionele blueshelden als Taj Mahal\, Freddy King\, Muddy Waters\, Keb Mo en vele andere\, maar ook door grootheden als The Allman Brothers\, Joe Cocker\, en de Tedeschi Trucks Band; artiesten die de blues graag voorzien van een lekker vleugje soul\, rock en funk. \nOok eigen nummers hebben een mooie plek gekregen in de set list. De backbone van de band\, bestaand uit bassist Michiel Boerman en drummer Joop de Haan\, legt de basis voor de specifieke groove van Cat Fever Band. Veel ruimte in de nummers wordt gereserveerd voor prachtig solowerk van Rolf Smook op tenorsax\, Harry Geerdink op lead gitaar\, John Klad op de bluesharp en Klaas de Haan op zijn geliefde Hammond. De slow blues wordt zeker ook niet geschuwd\, een kolfje naar de hand van frontman John Klad. \nAanvang: 16.00 uur\nEntree € 6\,-
URL:https://grandcafezuidlaren.nl/agenda/zondag-27-oktober-cat-fever-band/
LOCATION:Grand Café Zuidlaren\, De Millystraat 8\, Zuidlaren\, Drenthe\, 9471 AH\, Nederland
CATEGORIES:Agenda
ATTACH;FMTTYPE=image/jpeg:https://grandcafezuidlaren.nl/wp-content/uploads/Cat-Fever-Band.jpg
ORGANIZER;CN="Grand Caf%C3%A9 Zuidlaren":MAILTO:info@grandcafezuidlaren.nl
END:VEVENT
BEGIN:VEVENT
DTSTART;TZID=Europe/Amsterdam:20241027T210000
DTEND;TZID=Europe/Amsterdam:20241027T210000
DTSTAMP:20260422T081308
CREATED:20240928T102422Z
LAST-MODIFIED:20241023T070343Z
UID:10000094-1730062800-1730062800@grandcafezuidlaren.nl
SUMMARY:Zondag 27 oktober: Live Sport GP Mexico
DESCRIPTION:GP Mexico \nAanvang: 21.00 uur
URL:https://grandcafezuidlaren.nl/agenda/zondag-27-oktober-live-sport-gp-mexico/
LOCATION:Grand Café Zuidlaren\, De Millystraat 8\, Zuidlaren\, Drenthe\, 9471 AH\, Nederland
CATEGORIES:Agenda
ATTACH;FMTTYPE=image/jpeg:https://grandcafezuidlaren.nl/wp-content/uploads/tv-sport-live.jpg
ORGANIZER;CN="Grand Caf%C3%A9 Zuidlaren":MAILTO:info@grandcafezuidlaren.nl
END:VEVENT
END:VCALENDAR