BEGIN:VCALENDAR
VERSION:2.0
PRODID:-//Grand Café Zuidlaren - ECPv6.15.18//NONSGML v1.0//EN
CALSCALE:GREGORIAN
METHOD:PUBLISH
X-WR-CALNAME:Grand Café Zuidlaren
X-ORIGINAL-URL:https://grandcafezuidlaren.nl
X-WR-CALDESC:Evenementen voor Grand Café Zuidlaren
REFRESH-INTERVAL;VALUE=DURATION:PT1H
X-Robots-Tag:noindex
X-PUBLISHED-TTL:PT1H
BEGIN:VTIMEZONE
TZID:Europe/Amsterdam
BEGIN:DAYLIGHT
TZOFFSETFROM:+0100
TZOFFSETTO:+0200
TZNAME:CEST
DTSTART:20230326T010000
END:DAYLIGHT
BEGIN:STANDARD
TZOFFSETFROM:+0200
TZOFFSETTO:+0100
TZNAME:CET
DTSTART:20231029T010000
END:STANDARD
BEGIN:DAYLIGHT
TZOFFSETFROM:+0100
TZOFFSETTO:+0200
TZNAME:CEST
DTSTART:20240331T010000
END:DAYLIGHT
BEGIN:STANDARD
TZOFFSETFROM:+0200
TZOFFSETTO:+0100
TZNAME:CET
DTSTART:20241027T010000
END:STANDARD
BEGIN:DAYLIGHT
TZOFFSETFROM:+0100
TZOFFSETTO:+0200
TZNAME:CEST
DTSTART:20250330T010000
END:DAYLIGHT
BEGIN:STANDARD
TZOFFSETFROM:+0200
TZOFFSETTO:+0100
TZNAME:CET
DTSTART:20251026T010000
END:STANDARD
END:VTIMEZONE
BEGIN:VEVENT
DTSTART;TZID=Europe/Amsterdam:20240830T223000
DTEND;TZID=Europe/Amsterdam:20240831T010000
DTSTAMP:20260422T093412
CREATED:20240808T064933Z
LAST-MODIFIED:20240823T091034Z
UID:10000077-1725057000-1725066000@grandcafezuidlaren.nl
SUMMARY:Vrijdag 30 augustus: DAEN!
DESCRIPTION:Coverband DAEN uit Groningen en Zuidlaren bestaat inmiddels al 8 jaar en komt vrijdagavond 30 augustus de zomervakantie feestelijk afsluiten met een optreden in Grand Café Zuidlaren! DAEN: een 6- tal razend enthousiaste muzikanten die ervan geniet om samen muziek te maken en mensen een te gekke avond te bezorgen. DAEN bouwt graag een feestje met een swingende soul-funk vibe\, met covers van o.a. Stevie Wonder\, Bill Withers\, The Jacksons\, Bruno Mars en meer! \nHun hart gaat vooral sneller kloppen van funk en soul\, maar ze gooien er altijd graag een paar klassiekers en meezinghitjes doorheen. Dat wordt genieten! Heerlijk met de voetjes van de vloer en lekker meezingen! Iedereen is welkom! \nAanvang: 20.30 uur.\nEntree: gratis
URL:https://grandcafezuidlaren.nl/agenda/vrijdag-30-augustus-daen/
LOCATION:Grand Café Zuidlaren\, De Millystraat 8\, Zuidlaren\, Drenthe\, 9471 AH\, Nederland
CATEGORIES:Agenda
ATTACH;FMTTYPE=image/jpeg:https://grandcafezuidlaren.nl/wp-content/uploads/Coverband-DAEN.jpg
ORGANIZER;CN="Grand Caf%C3%A9 Zuidlaren":MAILTO:info@grandcafezuidlaren.nl
END:VEVENT
END:VCALENDAR