BEGIN:VCALENDAR
VERSION:2.0
PRODID:-//Grand Café Zuidlaren - ECPv6.15.18//NONSGML v1.0//EN
CALSCALE:GREGORIAN
METHOD:PUBLISH
X-WR-CALNAME:Grand Café Zuidlaren
X-ORIGINAL-URL:https://grandcafezuidlaren.nl
X-WR-CALDESC:Evenementen voor Grand Café Zuidlaren
REFRESH-INTERVAL;VALUE=DURATION:PT1H
X-Robots-Tag:noindex
X-PUBLISHED-TTL:PT1H
BEGIN:VTIMEZONE
TZID:Europe/Amsterdam
BEGIN:DAYLIGHT
TZOFFSETFROM:+0100
TZOFFSETTO:+0200
TZNAME:CEST
DTSTART:20250330T010000
END:DAYLIGHT
BEGIN:STANDARD
TZOFFSETFROM:+0200
TZOFFSETTO:+0100
TZNAME:CET
DTSTART:20251026T010000
END:STANDARD
BEGIN:DAYLIGHT
TZOFFSETFROM:+0100
TZOFFSETTO:+0200
TZNAME:CEST
DTSTART:20260329T010000
END:DAYLIGHT
BEGIN:STANDARD
TZOFFSETFROM:+0200
TZOFFSETTO:+0100
TZNAME:CET
DTSTART:20261025T010000
END:STANDARD
BEGIN:DAYLIGHT
TZOFFSETFROM:+0100
TZOFFSETTO:+0200
TZNAME:CEST
DTSTART:20270328T010000
END:DAYLIGHT
BEGIN:STANDARD
TZOFFSETFROM:+0200
TZOFFSETTO:+0100
TZNAME:CET
DTSTART:20271031T010000
END:STANDARD
END:VTIMEZONE
BEGIN:VEVENT
DTSTART;TZID=Europe/Amsterdam:20260417T200000
DTEND;TZID=Europe/Amsterdam:20260417T233000
DTSTAMP:20260421T102653
CREATED:20260328T104126Z
LAST-MODIFIED:20260328T104126Z
UID:10000269-1776456000-1776468600@grandcafezuidlaren.nl
SUMMARY:Pubquiz 17 April
DESCRIPTION:
URL:https://grandcafezuidlaren.nl/agenda/pubquiz-17-april/
LOCATION:Grand Café Zuidlaren\, De Millystraat 8\, Zuidlaren\, Drenthe\, 9471 AH\, Nederland
CATEGORIES:Agenda
ATTACH;FMTTYPE=image/jpeg:https://grandcafezuidlaren.nl/wp-content/uploads/69c4208fcad5c_w600fcad5d_17april26insta.jpg
ORGANIZER;CN="Grand Caf%C3%A9 Zuidlaren":MAILTO:info@grandcafezuidlaren.nl
END:VEVENT
END:VCALENDAR